BEGIN:VCALENDAR
VERSION:2.0
PRODID:-//www.charlesriverchurch.com//NONSGML kigkonsult.se iCalcreator 2.3
 9.1//
CALSCALE:GREGORIAN
METHOD:PUBLISH
UID:4c44858b-d9b6-4745-bfa1-7de7d6a788d5
X-WR-CALNAME:www.charlesriverchurch.com
X-WR-CALDESC:www.charlesriverchurch.com
X-WR-TIMEZONE:America/Los_Angeles
X-LIC-LOCATION:America/Los_Angeles
BEGIN:VEVENT
UID:0f5b550e-20d7-44d8-adf1-38af7e473a25
DTSTAMP:20260421T084644Z
CLASS:PUBLIC
DTSTART;TZID=America/Los_Angeles:20260421T120000
DTEND;TZID=America/Los_Angeles:20260421T123000
SUMMARY:Prayer Gathering
TRANSP:OPAQUE
BEGIN:VALARM
ACTION:DISPLAY
DESCRIPTION:Prayer Gathering
TRIGGER:-PT15M
END:VALARM
END:VEVENT
END:VCALENDAR
